BEGIN:VCALENDAR
VERSION:2.0
PRODID:-//co.bleeding.org//NONSGML kigkonsult.se iCalcreator 2.30.10//
CALSCALE:GREGORIAN
METHOD:PUBLISH
UID:8bc8bbbd-8004-45f7-ba87-822e9178bfa9
X-WR-CALDESC:Join us for a morning of biking with fellow members of the ble
 eding disorders community! Everyone will meet at Village Greens Park by th
 e mountian bike track to social and group up with people of similar skill 
 level to ride the trail. Participants will need to provide their own bike 
 and protective equipment. Village Green Park amenities include a playgroun
 d\, picnic tables\, interior restrooms\, and a water dispenser to make the
  morning more enjoyable.\n\nThe mountain bike skills course is approximate
 ly 2.75 miles long and provides a single-track trail experience. The cours
 e contains over 100 obstacles\, which vary in difficulty\, ranging from be
 ginner to black diamond obstacles. Each obstacle in this area has a bypass
  should the rider choose not to attempt an obstacle. At the north end of t
 he single track are two smaller\, more challenging loops: the hill loop an
 d the prairie loop. The hill loop has more steep climbs and even segments 
 of track containing difficult\, black diamond obstacles and no bypasses. R
 iders are reminded to wear protective gear and to ride within their skill 
 limits. The rider’s approach speed\, line\, and balance will affect their 
 ability to maneuver over the different features successfully.
X-WR-RELCALID:b933c90b8e475345ab628bd2b3883334
X-WR-TIMEZONE:America/Denver
BEGIN:VTIMEZONE
TZID:America/Denver
BEGIN:STANDARD
TZNAME:MST
DTSTART:20241103T020000
TZOFFSETFROM:-0600
TZOFFSETTO:-0700
RDATE:20251102T020000
RDATE:20261101T020000
END:STANDARD
BEGIN:DAYLIGHT
TZNAME:MDT
DTSTART:20250309T020000
TZOFFSETFROM:-0700
TZOFFSETTO:-0600
RDATE:20260308T020000
END:DAYLIGHT
END:VTIMEZONE
BEGIN:VEVENT
UID:a6f9707a-9d2e-4a1b-b70e-e67b6d68ff70
DTSTAMP:20260421T084921Z
DESCRIPTION:Join us for a morning of biking with fellow members of the blee
 ding disorders community! Everyone will meet at Village Greens Park by the
  mountian bike track to social and group up with people of similar skill l
 evel to ride the trail. Participants will need to provide their own bike a
 nd protective equipment. Village Green Park amenities include a playground
 \, picnic tables\, interior restrooms\, and a water dispenser to make the 
 morning more enjoyable.\n\nThe mountain bike skills course is approximatel
 y 2.75 miles long and provides a single-track trail experience. The course
  contains over 100 obstacles\, which vary in difficulty\, ranging from beg
 inner to black diamond obstacles. Each obstacle in this area has a bypass 
 should the rider choose not to attempt an obstacle. At the north end of th
 e single track are two smaller\, more challenging loops: the hill loop and
  the prairie loop. The hill loop has more steep climbs and even segments o
 f track containing difficult\, black diamond obstacles and no bypasses. Ri
 ders are reminded to wear protective gear and to ride within their skill l
 imits. The rider’s approach speed\, line\, and balance will affect their a
 bility to maneuver over the different features successfully.
DTSTART;TZID=America/Denver:20250810T093000
DTEND;TZID=America/Denver:20250810T113000
LOCATION:9501 E Union Ave\, Greenwood Village\, CO 80111 US
SUMMARY:Backpacks + Bleeders: Riding the Mountain Bike Track at Village Gre
 ens Park
END:VEVENT
END:VCALENDAR
