BEGIN:VCALENDAR
VERSION:2.0
PRODID:-//co.bleeding.org//NONSGML kigkonsult.se iCalcreator 2.30.10//
CALSCALE:GREGORIAN
METHOD:PUBLISH
UID:fd1d056f-5e9f-4d9a-acfc-ce4433331cd3
X-WR-CALDESC:Únase a nosotros en el Día Mundial de la Hemofilia para una ce
 na presentada por Sanofi. Presentada simultáneamente en inglés y español\,
  esta cena es una oportunidad para reunirnos como comunidad conectada por 
 algo más que un diagnóstico. El Programa 2025 Una Familia de Sanofi celebr
 a los lazos que surgen de vivir con hemofilia y cómo nadie está nunca solo
 . RSVP para actividades prácticas como la fabricación de pulseras\, estaci
 ones de cámara instantánea selfie\, marcos de fotos DIY\, artesanías de ac
 cesorios de fotos\, conversaciones y conexiones.
X-WR-RELCALID:1374ca2944d51ce4731242f44e84f09d
X-WR-TIMEZONE:America/Denver
BEGIN:VTIMEZONE
TZID:America/Denver
BEGIN:STANDARD
TZNAME:MST
DTSTART:20241103T020000
TZOFFSETFROM:-0600
TZOFFSETTO:-0700
RDATE:20251102T020000
END:STANDARD
BEGIN:DAYLIGHT
TZNAME:MDT
DTSTART:20250309T020000
TZOFFSETFROM:-0700
TZOFFSETTO:-0600
RDATE:20260308T020000
END:DAYLIGHT
END:VTIMEZONE
BEGIN:VEVENT
UID:8d712418-7647-4441-9ab5-23bd46657ee4
DTSTAMP:20260426T040640Z
DESCRIPTION:Únase a nosotros en el Día Mundial de la Hemofilia para una cen
 a presentada por Sanofi. Presentada simultáneamente en inglés y español\, 
 esta cena es una oportunidad para reunirnos como comunidad conectada por a
 lgo más que un diagnóstico. El Programa 2025 Una Familia de Sanofi celebra
  los lazos que surgen de vivir con hemofilia y cómo nadie está nunca solo.
  RSVP para actividades prácticas como la fabricación de pulseras\, estacio
 nes de cámara instantánea selfie\, marcos de fotos DIY\, artesanías de acc
 esorios de fotos\, conversaciones y conexiones.
DTSTART;TZID=America/Denver:20250415T180000
DTEND;TZID=America/Denver:20250415T200000
LOCATION:Maggiano's Little Italy\, 7401 S Clinton St\, Englewood\, CO 80112
  US
SUMMARY:Español: Una Familia: Día Mundial de la Hemofilia 2025
END:VEVENT
END:VCALENDAR
