BEGIN:VCALENDAR
VERSION:2.0
PRODID:-//co.bleeding.org//NONSGML kigkonsult.se iCalcreator 2.30.10//
CALSCALE:GREGORIAN
METHOD:PUBLISH
UID:b1445fa8-dce5-400f-82ad-117d8d39b5a2
X-WR-CALDESC:NHF is thrilled to announce that the 74th Annual Bleeding Diso
 rders Conference (BDC) will take place from August 25 to 27\, 2022\, in Ho
 uston\, Texas. After two years of uncertainty\, we are excited to gather o
 ur community in person!\n\nFor those that cannot join NHF in Houston\, the
 y will also be offering a virtual component. A total of 28 hours of select
 ed sessions from the Consumer\, Teen\, and Chapter tracks will be live-str
 eamed. These sessions will also be available on-demand immediately after t
 he live broadcast. On-demand sessions will be accessible on our virtual pl
 atform until September 25\, 2022.\n\nNHF will also be offering 12 hours of
  selected live streaming sessions from the Provider tracks. An Enduring Pr
 ogram during late Fall of 2022 will be offered.\n\nNOTICE: This is an inde
 pendent event organized by industry representatives and not run by NHF Col
 orado. In order to continue to best serve the community the chapter is par
 tnering to provide information and resources that may impact you. \n\n
X-WR-RELCALID:904aa7797aaf245694e62f7581c3e93b
X-WR-TIMEZONE:America/Denver
BEGIN:VTIMEZONE
TZID:America/Denver
BEGIN:STANDARD
TZNAME:MST
DTSTART:20211107T020000
TZOFFSETFROM:-0600
TZOFFSETTO:-0700
RDATE:20221106T020000
RDATE:20231105T020000
END:STANDARD
BEGIN:DAYLIGHT
TZNAME:MDT
DTSTART:20220313T020000
TZOFFSETFROM:-0700
TZOFFSETTO:-0600
RDATE:20230312T020000
END:DAYLIGHT
END:VTIMEZONE
BEGIN:VEVENT
UID:85649b59-827f-485a-9194-4616818b5b97
DTSTAMP:20260425T124903Z
DESCRIPTION:NHF is thrilled to announce that the 74th Annual Bleeding Disor
 ders Conference (BDC) will take place from August 25 to 27\, 2022\, in Hou
 ston\, Texas. After two years of uncertainty\, we are excited to gather ou
 r community in person!\n\nFor those that cannot join NHF in Houston\, they
  will also be offering a virtual component. A total of 28 hours of selecte
 d sessions from the Consumer\, Teen\, and Chapter tracks will be live-stre
 amed. These sessions will also be available on-demand immediately after th
 e live broadcast. On-demand sessions will be accessible on our virtual pla
 tform until September 25\, 2022.\n\nNHF will also be offering 12 hours of 
 selected live streaming sessions from the Provider tracks. An Enduring Pro
 gram during late Fall of 2022 will be offered.\n\nNOTICE: This is an indep
 endent event organized by industry representatives and not run by NHF Colo
 rado. In order to continue to best serve the community the chapter is part
 nering to provide information and resources that may impact you. \n\n
DTSTART;TZID=America/Denver:20220825T080000
DTEND;TZID=America/Denver:20220827T113000
LOCATION:
SUMMARY:NHF Bleeding Disorder Conference
END:VEVENT
END:VCALENDAR
